BEGIN:VCALENDAR
VERSION:2.0
PRODID:-//TYPO3/NONSGML Calendarize//EN
BEGIN:VEVENT
UID:calendarize-fridays-for-future-aktionstag-bruehl
DTSTAMP:20260420T232828Z
DTSTART:20260424T140000Z
DTEND:20260424T180000Z
SUMMARY:Fridays For Future Aktionstag Brühl
DESCRIPTION:
X-ALT-DESC;FMTTYPE=text/html:
LOCATION:Steinweg\nBrühl\, Deutschland
END:VEVENT
END:VCALENDAR
